BEGIN:VCALENDAR
VERSION:2.0
PRODID:-//wp-events-plugin.com//7.2.3.1//EN
BEGIN:VEVENT
UID:69@finanzplatz-frankfurt-main.de
DTSTART;TZID=Europe/Berlin:20220124T180000
DTEND;TZID=Europe/Berlin:20220124T193000
DTSTAMP:20220118T082346Z
URL:https://finanzplatz-frankfurt-main.de/events/towards-global-algorithmi
 c-technocracy-post-westphalian-and-neo-westphalian-perspectives-for-postde
 mocracy
SUMMARY:Towards Global Algorithmic Technocracy: Post-Westphalian and neo-We
 stphalian Perspectives for (Post)Democracy?
DESCRIPTION:Weitere Informationen zu dem Event und zur Anmeldung: LINK\n\nV
 eranstalter: Goethe Universität Frankfurt\n\n&nbsp\;
CATEGORIES:Kultur
END:VEVENT
BEGIN:VTIMEZONE
TZID:Europe/Berlin
X-LIC-LOCATION:Europe/Berlin
BEGIN:STANDARD
DTSTART:20211031T020000
TZOFFSETFROM:+0200
TZOFFSETTO:+0100
TZNAME:CET
END:STANDARD
END:VTIMEZONE
END:VCALENDAR