BEGIN:VCALENDAR
VERSION:2.0
PRODID:-//wp-events-plugin.com//7.2.3.1//EN
BEGIN:VEVENT
UID:13@finanzplatz-frankfurt-main.de
DTSTART;TZID=Europe/Berlin;VALUE=DATE:20201202
DTEND;TZID=Europe/Berlin;VALUE=DATE:20201204
DTSTAMP:20201126T153251Z
URL:https://finanzplatz-frankfurt-main.de/events/rechnungslegung-bei-offen
 en-immobilienfonds
SUMMARY:Rechnungslegung bei offenen Immobilienfonds
DESCRIPTION:Weitere Informationen zu dem Event und zur Anmeldung: LINK\n\nV
 eranstalter: BVI\n\nDigital Event\n\n&nbsp\;
CATEGORIES:Finance
END:VEVENT
BEGIN:VTIMEZONE
TZID:Europe/Berlin
X-LIC-LOCATION:Europe/Berlin
BEGIN:STANDARD
DTSTART:20201025T020000
TZOFFSETFROM:+0200
TZOFFSETTO:+0100
TZNAME:CET
END:STANDARD
END:VTIMEZONE
END:VCALENDAR