BEGIN:VCALENDAR
VERSION:2.0
PRODID:-//wp-events-plugin.com//7.2.3.1//EN
BEGIN:VEVENT
UID:62@finanzplatz-frankfurt-main.de
DTSTART;TZID=Europe/Berlin;VALUE=DATE:20211118
DTEND;TZID=Europe/Berlin;VALUE=DATE:20211119
DTSTAMP:20211015T102552Z
URL:https://finanzplatz-frankfurt-main.de/events/offene-immobilienfonds-an
 -einem-tag-2
SUMMARY:Offene Immobilienfonds an einem Tag
DESCRIPTION:Informationen zur Veranstaltung: LINK\n\nVeranstalter: BVI
CATEGORIES:Finance
END:VEVENT
BEGIN:VTIMEZONE
TZID:Europe/Berlin
X-LIC-LOCATION:Europe/Berlin
BEGIN:STANDARD
DTSTART:20211031T020000
TZOFFSETFROM:+0200
TZOFFSETTO:+0100
TZNAME:CET
END:STANDARD
END:VTIMEZONE
END:VCALENDAR