BEGIN:VCALENDAR
VERSION:2.0
PRODID:-//wp-events-plugin.com//7.2.3.1//EN
BEGIN:VEVENT
UID:73@finanzplatz-frankfurt-main.de
DTSTART;TZID=Europe/Berlin;VALUE=DATE:20220601
DTEND;TZID=Europe/Berlin;VALUE=DATE:20220602
DTSTAMP:20220517T123519Z
URL:https://finanzplatz-frankfurt-main.de/events/npl-forum-2022-regulierun
 g-risikosteuerung-innovation-ki-im-kreditgeschaeft
SUMMARY:NPL Forum 2022 - Regulierung\, Risikosteuerung & Innovation/KI im K
 reditgeschäft
DESCRIPTION:Weitere Informationen zu dem Event: LINK\n\nVeranstalter: Frank
 furt School of Finance
END:VEVENT
BEGIN:VTIMEZONE
TZID:Europe/Berlin
X-LIC-LOCATION:Europe/Berlin
BEGIN:DAYLIGHT
DTSTART:20220327T030000
TZOFFSETFROM:+0100
TZOFFSETTO:+0200
TZNAME:CEST
END:DAYLIGHT
END:VTIMEZONE
END:VCALENDAR