BEGIN:VCALENDAR
VERSION:2.0
PRODID:-//wp-events-plugin.com//7.2.3.1//EN
BEGIN:VEVENT
UID:74@finanzplatz-frankfurt-main.de
DTSTART;TZID=Europe/Berlin;VALUE=DATE:20220914
DTEND;TZID=Europe/Berlin;VALUE=DATE:20220915
DTSTAMP:20220518T105904Z
URL:https://finanzplatz-frankfurt-main.de/events/konferenz-nachhaltige-gel
 danlagen
SUMMARY:Konferenz: Nachhaltige Geldanlagen
DESCRIPTION:Weitere Informationen zu dem Event: LINK\n\nVeranstalter: Frank
 furt School of Finance
END:VEVENT
BEGIN:VTIMEZONE
TZID:Europe/Berlin
X-LIC-LOCATION:Europe/Berlin
BEGIN:DAYLIGHT
DTSTART:20220327T030000
TZOFFSETFROM:+0100
TZOFFSETTO:+0200
TZNAME:CEST
END:DAYLIGHT
END:VTIMEZONE
END:VCALENDAR