BEGIN:VCALENDAR
VERSION:2.0
PRODID:-//wp-events-plugin.com//7.2.3.1//EN
BEGIN:VEVENT
UID:66@finanzplatz-frankfurt-main.de
DTSTART;TZID=Europe/Berlin;VALUE=DATE:20220124
DTEND;TZID=Europe/Berlin;VALUE=DATE:20220129
DTSTAMP:20220118T081639Z
URL:https://finanzplatz-frankfurt-main.de/events/ir22-virtual-week
SUMMARY:IR22 - Virtual Week
DESCRIPTION:Weitere Informationen zu dem Event und zur Anmeldung: LINK\n\nV
 eranstalter: cometis AG\n\n&nbsp\;
CATEGORIES:Finance
END:VEVENT
BEGIN:VTIMEZONE
TZID:Europe/Berlin
X-LIC-LOCATION:Europe/Berlin
BEGIN:STANDARD
DTSTART:20211031T020000
TZOFFSETFROM:+0200
TZOFFSETTO:+0100
TZNAME:CET
END:STANDARD
END:VTIMEZONE
END:VCALENDAR