BEGIN:VCALENDAR
VERSION:2.0
PRODID:-//wp-events-plugin.com//7.2.3.1//EN
BEGIN:VEVENT
UID:8@finanzplatz-frankfurt-main.de
DTSTART;TZID=Europe/Berlin:20201121T110000
DTEND;TZID=Europe/Berlin:20201121T170000
DTSTAMP:20201023T104645Z
URL:https://finanzplatz-frankfurt-main.de/events/frankfurt-school-business
 -forum-2020
SUMMARY:Frankfurt School Business Forum 2020
DESCRIPTION:Weitere Informationen zu dem Event und zur Anmeldung: LINK\n\nV
 eranstalter: Frankfurt School of Finance &amp\; Management
CATEGORIES:Finance
LOCATION:Frankfurt School of Finance & Management\, Adickesallee 32-34\, Fr
 ankfurt am Main\, 60322\, Deutschland
X-APPLE-STRUCTURED-LOCATION;VALUE=URI;X-ADDRESS=Adickesallee 32-34\, Frankf
 urt am Main\, 60322\, Deutschland;X-APPLE-RADIUS=100;X-TITLE=Frankfurt Sch
 ool of Finance & Management:geo:0,0
END:VEVENT
BEGIN:VTIMEZONE
TZID:Europe/Berlin
X-LIC-LOCATION:Europe/Berlin
BEGIN:STANDARD
DTSTART:20201025T020000
TZOFFSETFROM:+0200
TZOFFSETTO:+0100
TZNAME:CET
END:STANDARD
END:VTIMEZONE
END:VCALENDAR