BEGIN:VCALENDAR
VERSION:2.0
PRODID:-//wp-events-plugin.com//7.2.3.1//EN
BEGIN:VEVENT
UID:64@finanzplatz-frankfurt-main.de
DTSTART;TZID=Europe/Berlin;VALUE=DATE:20211207
DTEND;TZID=Europe/Berlin;VALUE=DATE:20211208
DTSTAMP:20211030T135137Z
URL:https://finanzplatz-frankfurt-main.de/events/fondstique
SUMMARY:FONDSTIQUE
DESCRIPTION:Die FONDSTIQUE ist eine der ersten virtuellen Messen im Fondsbe
 reich für die gesamte Investmentbranche\, die jeder ohne großen zeitlich
 en Aufwand besuchen kann. Fondsboutiquen und ihre Dienstleister präsentie
 ren ihre individuellen Produkte. Egal ob Privatanleger oder institutionell
 er Investor\, nutzen Sie die Chance und informieren Sie sich als Besucher 
 über interessante Konzepte.\n\nInformationen zur Veranstaltung: LINK\n\nV
 eranstalter: HANSAINVEST
CATEGORIES:Finance
END:VEVENT
BEGIN:VTIMEZONE
TZID:Europe/Berlin
X-LIC-LOCATION:Europe/Berlin
BEGIN:STANDARD
DTSTART:20211031T020000
TZOFFSETFROM:+0200
TZOFFSETTO:+0100
TZNAME:CET
END:STANDARD
END:VTIMEZONE
END:VCALENDAR