BEGIN:VCALENDAR
VERSION:2.0
PRODID:-//wp-events-plugin.com//7.2.3.1//EN
BEGIN:VEVENT
UID:70@finanzplatz-frankfurt-main.de
DTSTART;TZID=Europe/Berlin;VALUE=DATE:20220117
DTEND;TZID=Europe/Berlin;VALUE=DATE:20220122
DTSTAMP:20220118T131629Z
URL:https://finanzplatz-frankfurt-main.de/events/fashion-week-frankfurt
SUMMARY:Fashion Week Frankfurt
DESCRIPTION:Weitere Informationen zu dem Event: LINK
CATEGORIES:Kultur
END:VEVENT
BEGIN:VTIMEZONE
TZID:Europe/Berlin
X-LIC-LOCATION:Europe/Berlin
BEGIN:STANDARD
DTSTART:20211031T020000
TZOFFSETFROM:+0200
TZOFFSETTO:+0100
TZNAME:CET
END:STANDARD
END:VTIMEZONE
END:VCALENDAR