BEGIN:VCALENDAR
VERSION:2.0
PRODID:-//wp-events-plugin.com//7.2.3.1//EN
BEGIN:VEVENT
UID:61@finanzplatz-frankfurt-main.de
DTSTART;TZID=Europe/Berlin;VALUE=DATE:20211104
DTEND;TZID=Europe/Berlin;VALUE=DATE:20211105
DTSTAMP:20211015T102454Z
URL:https://finanzplatz-frankfurt-main.de/events/facts-funds-and-food-ktmc
 -aktionaersklagen-trends-und-entwicklungen-bei-internationalen-rechtsstrei
 tigkeiten
SUMMARY:Facts\, Funds and Food KTMC: Aktionärsklagen – Trends und Entwic
 klungen bei internationalen Rechtsstreitigkeiten
DESCRIPTION:Informationen zur Veranstaltung: LINK\n\nVeranstalter: BVI
CATEGORIES:Finance
END:VEVENT
BEGIN:VTIMEZONE
TZID:Europe/Berlin
X-LIC-LOCATION:Europe/Berlin
BEGIN:STANDARD
DTSTART:20211031T020000
TZOFFSETFROM:+0200
TZOFFSETTO:+0100
TZNAME:CET
END:STANDARD
END:VTIMEZONE
END:VCALENDAR