BEGIN:VCALENDAR
VERSION:2.0
PRODID:-//wp-events-plugin.com//7.2.3.1//EN
BEGIN:VEVENT
UID:10@finanzplatz-frankfurt-main.de
DTSTART;TZID=Europe/Berlin:20201118T140000
DTEND;TZID=Europe/Berlin:20201118T150000
DTSTAMP:20201114T100037Z
URL:https://finanzplatz-frankfurt-main.de/events/european-banks-and-the-in
 troduction-of-the-basel-iii-countercyclical-capital-buffer-ccyb
SUMMARY:European banks and the introduction of the Basel III Countercyclica
 l Capital Buffer (CCyB)
DESCRIPTION:Weitere Informationen zu dem Event und zur Anmeldung: LINK\n\nV
 eranstaltungsort: ONLINE\n\nVeranstalter: Goethe Universität Frankfurt am
  Main
CATEGORIES:Finance
END:VEVENT
BEGIN:VTIMEZONE
TZID:Europe/Berlin
X-LIC-LOCATION:Europe/Berlin
BEGIN:STANDARD
DTSTART:20201025T020000
TZOFFSETFROM:+0200
TZOFFSETTO:+0100
TZNAME:CET
END:STANDARD
END:VTIMEZONE
END:VCALENDAR