BEGIN:VCALENDAR
VERSION:2.0
PRODID:-//wp-events-plugin.com//7.2.3.1//EN
BEGIN:VEVENT
UID:78@finanzplatz-frankfurt-main.de
DTSTART;TZID=Europe/Berlin:20220601T093000
DTEND;TZID=Europe/Berlin:20220601T110000
DTSTAMP:20220524T134235Z
URL:https://finanzplatz-frankfurt-main.de/events/dr-asset-manager-presenta
 tion-die-zukunft-ist-jetzt
SUMMARY:D&R Asset Manager Presentation „Die Zukunft ist jetzt!"
DESCRIPTION:Weitere Informationen zu dem Event: LINK\n\nVeranstalter: DONNE
 R&amp\;REUSCHEL
END:VEVENT
BEGIN:VTIMEZONE
TZID:Europe/Berlin
X-LIC-LOCATION:Europe/Berlin
BEGIN:DAYLIGHT
DTSTART:20220327T030000
TZOFFSETFROM:+0100
TZOFFSETTO:+0200
TZNAME:CEST
END:DAYLIGHT
END:VTIMEZONE
END:VCALENDAR