BEGIN:VCALENDAR
VERSION:2.0
PRODID:-//wp-events-plugin.com//7.2.3.1//EN
BEGIN:VEVENT
UID:9@finanzplatz-frankfurt-main.de
DTSTART;TZID=Europe/Berlin;VALUE=DATE:20201030
DTEND;TZID=Europe/Berlin;VALUE=DATE:20201102
DTSTAMP:20201023T104546Z
URL:https://finanzplatz-frankfurt-main.de/events/discovery-art-fair-frankf
 urt
SUMMARY:DISCOVERY ART FAIR Frankfurt
DESCRIPTION:\n\nWeitere Informationen zu dem Event und zur Anmeldung: LINK
 \n\nVeranstalter: the working smarter group GmbH\n\n
CATEGORIES:Kultur
LOCATION:Messe Frankfurt - Halle 1\, Ludwig-Erhard-Anlage 1\, Frankfurt am 
 Main\, 60327\, 60327\, Deutschland
X-APPLE-STRUCTURED-LOCATION;VALUE=URI;X-ADDRESS=Ludwig-Erhard-Anlage 1\, Fr
 ankfurt am Main\, 60327\, 60327\, Deutschland;X-APPLE-RADIUS=100;X-TITLE=M
 esse Frankfurt - Halle 1:geo:0,0
END:VEVENT
BEGIN:VTIMEZONE
TZID:Europe/Berlin
X-LIC-LOCATION:Europe/Berlin
BEGIN:STANDARD
DTSTART:20201025T020000
TZOFFSETFROM:+0200
TZOFFSETTO:+0100
TZNAME:CET
END:STANDARD
END:VTIMEZONE
END:VCALENDAR