BEGIN:VCALENDAR
VERSION:2.0
PRODID:-//wp-events-plugin.com//7.2.3.1//EN
BEGIN:VEVENT
UID:75@finanzplatz-frankfurt-main.de
DTSTART;TZID=Europe/Berlin:20220608T090000
DTEND;TZID=Europe/Berlin:20220608T163000
DTSTAMP:20220518T110406Z
URL:https://finanzplatz-frankfurt-main.de/events/16-gips-tag
SUMMARY:16. GIPS-Tag
DESCRIPTION:Weitere Informationen zu dem Event: LINK\n\nVeranstalter: BVI
END:VEVENT
BEGIN:VTIMEZONE
TZID:Europe/Berlin
X-LIC-LOCATION:Europe/Berlin
BEGIN:DAYLIGHT
DTSTART:20220327T030000
TZOFFSETFROM:+0100
TZOFFSETTO:+0200
TZNAME:CEST
END:DAYLIGHT
END:VTIMEZONE
END:VCALENDAR