BEGIN:VCALENDAR
VERSION:2.0
PRODID:-//wp-events-plugin.com//7.2.3.1//EN
BEGIN:VEVENT
UID:77@finanzplatz-frankfurt-main.de
DTSTART;TZID=Europe/Berlin;VALUE=DATE:20220623
DTEND;TZID=Europe/Berlin;VALUE=DATE:20220624
DTSTAMP:20220524T133946Z
URL:https://finanzplatz-frankfurt-main.de/events/13-wiesbadener-investoren
 tag
SUMMARY:13. Wiesbadener Investorentag
DESCRIPTION:Weitere Informationen zu dem Event: LINK\n\nVeranstalter: Telos
END:VEVENT
BEGIN:VTIMEZONE
TZID:Europe/Berlin
X-LIC-LOCATION:Europe/Berlin
BEGIN:DAYLIGHT
DTSTART:20220327T030000
TZOFFSETFROM:+0100
TZOFFSETTO:+0200
TZNAME:CEST
END:DAYLIGHT
END:VTIMEZONE
END:VCALENDAR